BEGIN:VCALENDAR
VERSION:2.0
PRODID:-//Institut National du Sport du Québec - ECPv4.6.14.1//NONSGML v1.0//EN
CALSCALE:GREGORIAN
X-WR-CALNAME:Institut National du Sport du Québec
X-ORIGINAL-URL:https://www.insquebec.org
X-WR-CALDESC:Events for Institut National du Sport du Québec
BEGIN:VEVENT
DESCRIPTION:Coupe Montréal Métro et Jeux Régionaux 2025
DTSTART;TZID=America/New_York:20250613T000000
DTEND;TZID=America/New_York:20250615T000000
SUMMARY:Coupe Montréal Métro et Jeux Régionaux 2025
URL;VALUE=URI:https://natationartistiquequebec.ca/event/coupe-montreal-metro-jeux-regionaux-2025/
LOCATION: 
END:VEVENT
END:VCALENDAR