BEGIN:VCALENDAR
VERSION:2.0
PRODID:-//Institut National du Sport du Québec - ECPv4.6.14.1//NONSGML v1.0//EN
CALSCALE:GREGORIAN
X-WR-CALNAME:Institut National du Sport du Québec
X-ORIGINAL-URL:https://www.insquebec.org
X-WR-CALDESC:Events for Institut National du Sport du Québec
BEGIN:VEVENT
DESCRIPTION:Unis dans l&rsquo;eau, initiation en natation artistique &#8211; Trois-Rivières
DTSTART;TZID=America/New_York:20260609T000000
DTEND;TZID=America/New_York:20260609T000000
SUMMARY:Unis dans l&rsquo;eau, initiation en natation artistique &#8211; Trois-Rivières
URL;VALUE=URI:https://natationartistiquequebec.ca/event/unis-dans-leau-initiation-en-natation-artistique-trois-rivieres/
LOCATION:1600 boulevard des Récollets\, G8Y 0K4 
END:VEVENT
END:VCALENDAR